BEGIN:VCALENDAR
VERSION:2.0
PRODID:-//Library Market//iCal Export//EN
BEGIN:VEVENT
SUMMARY:Calligraphy
UID:9279
DTSTAMP:20260419T165800Z
DTSTART:20260901T213000Z
DTEND:20260901T223000Z
LOCATION:81830 Overseas Hwy, Islamorada, FL 33036, United States
ROOM: Calligraphy
DESCRIPTION:Amidst the trend towards the digital, handwriting still persis
 ts as a form of communication. But it is also an artistic form of expressi
 on! Come grab a calligraphy pen and learn beautiful forms of penmanship. Â
  
URL:https://monroecountypl.librarycalendar.com/event/calligraphy-9279
END:VEVENT
END:VCALENDAR
