BEGIN:VCALENDAR
VERSION:2.0
PRODID:-//Library Market//iCal Export//EN
BEGIN:VEVENT
SUMMARY:Summer Reading: Ranger Katy at the big Pine Library
UID:9293
DTSTAMP:20260420T104000Z
DTSTART:20260710T140000Z
DTEND:20260710T150000Z
LOCATION:213 Key Deer Blvd, Big Pine Key, FL 33043, United States
ROOM: Summer Reading: Ranger Katy at the big Pine Library
DESCRIPTION:The ever popular Ranger Katy of the National Key Deer Refuge i
 s back at the Big Pine Library! Come and learn about the natural world jus
 t outside your window. Prepare to be amazed and complete the day with a co
 ol hands-on activity. Part of Summer Reading, all are welcome.
URL:https://monroecountypl.librarycalendar.com/event/summer-reading-ranger
 -katy-big-pine-library-9293
END:VEVENT
END:VCALENDAR
